BEGIN:VCALENDAR
VERSION:2.0
PRODID:-//wp-events-plugin.com//7.2.3.1//EN
BEGIN:VEVENT
UID:230@b-umf.de
DTSTART;TZID=Europe/Berlin:20260522T100000
DTEND;TZID=Europe/Berlin:20260522T120000
DTSTAMP:20260330T072522Z
URL:https://b-umf.de/veranstaltungen/passbeschaffung-und-identitaetsklaeru
 ng/
SUMMARY:Passbeschaffung und Identitätsklärung
DESCRIPTION:Die Grundlagenschulung für Fachkräfte und Ehrenamtliche\, die
  mit jungen Geflüchteten arbeiten\, vermittelt praxisnah jugendhilferecht
 liche und asyl- und aufenthaltsrechtliche Grundlagen\, Informationen zu Vo
 rmundschaft und ihrer Rolle im Asylsystem sowie zur Begleitung und Überga
 ngsgestaltung von und mit jungen volljährigen Geflüchteten.
CATEGORIES:Fortbildung
LOCATION:Online Seminar\, Diese Veranstaltung findet ausschließlich online
  statt.\,  \, Deutschland
X-APPLE-STRUCTURED-LOCATION;VALUE=URI;X-ADDRESS=Diese Veranstaltung findet 
 ausschließlich online statt.\,  \, Deutschland;X-APPLE-RADIUS=100;X-TITL
 E=Online Seminar:geo:0,0
END:VEVENT
BEGIN:VEVENT
UID:229@b-umf.de
DTSTART;TZID=Europe/Berlin:20260605T093000
DTEND;TZID=Europe/Berlin:20260605T130000
DTSTAMP:20260416T091639Z
URL:https://b-umf.de/veranstaltungen/grundlagenschulung-fuer-die-arbeit-mi
 t-jungen-gefluechteten/
SUMMARY:Grundlagenschulung für die Arbeit mit (un)begleiteten geflüchtete
 n Kindern und Jugendlichen Juni 2026
DESCRIPTION:Die Grundlagenschulung für Fachkräfte und Ehrenamtliche\, die
  mit jungen Geflüchteten arbeiten\, vermittelt praxisnah jugendhilferecht
 liche und asyl- und aufenthaltsrechtliche Grundlagen\, Informationen zu Vo
 rmundschaft und ihrer Rolle im Asylsystem sowie zur Begleitung und Überga
 ngsgestaltung von und mit jungen volljährigen Geflüchteten.
ATTACH;FMTTYPE=image/jpeg:https://b-umf.de/src/wp-content/uploads/2023/05/
 freestocks-rgkmrxpiray-unsplash-scaled.jpg
CATEGORIES:Fortbildung
LOCATION:Online Seminar\, Diese Veranstaltung findet ausschließlich online
  statt.\,  \, Deutschland
X-APPLE-STRUCTURED-LOCATION;VALUE=URI;X-ADDRESS=Diese Veranstaltung findet 
 ausschließlich online statt.\,  \, Deutschland;X-APPLE-RADIUS=100;X-TITL
 E=Online Seminar:geo:0,0
END:VEVENT
BEGIN:VEVENT
UID:231@b-umf.de
DTSTART;TZID=Europe/Berlin:20260608T090000
DTEND;TZID=Europe/Berlin:20260608T130000
DTSTAMP:20260422T090807Z
URL:https://b-umf.de/veranstaltungen/wiederholung-online-seminar-traumasen
 sibilitaet-in-der-begegnung-mit-jungen-menschen-mit-fluchterfahrung/
SUMMARY:Online-Seminar: Traumasensibilität in der Begegnung mit jungen Men
 schen mit Fluchterfahrung
DESCRIPTION:Junge Menschen mit Fluchterfahrung haben belastende oder trauma
 tische Erfahrungen gemacht – auf der Flucht\, im Herkunftsland und auch 
 nach der Ankunft. Fachkräfte\, die mit diesen jungen Menschen arbeiten\, 
 begegnen ihren Geschichten tagtäglich – in Gesprächen\, im Verhalten o
 der manchmal im Schweigen. Doch wie kann man in solchen Situationen sensib
 el\, unterstützend und zugleich professionell handeln?\n\nDas Online-Semi
 nar vermittelt die Grundlagen einer traumasensiblen Haltung und bietet Or
 ientierung für den Alltag in Schule\, Jugendhilfe\, Sozialarbeit oder Ehr
 enamt.\n\nGemeinsam gehen wir folgenden Fragen nach:\n\nWas ist ein Trauma
 ?\nWir beleuchten\, was genau ein Trauma bedeutet\, wie es entsteht und wa
 rum belastende Erfahrungen unterschiedlich wirken können – je nach Alte
 r\, Lebensumständen und Unterstützungssystemen.\n\nWas sind Traumafolges
 törungen – und wie zeigen sie sich?\nTeilnehmende lernen\, welche psych
 ischen und körperlichen Reaktionen auf Traumata hinweisen können\, etwa 
 Rückzug\, Übererregung\, Misstrauen oder starke Stimmungsschwankungen. Z
 iel ist\, Verhaltensweisen besser zu verstehen\, anstatt sie vorschnell zu
  bewerten.\n\nWoran erkenne ich\, dass mein Gegenüber unter Traumafolgen 
 leidet?\nWir besprechen typische Signale und Reaktionsmuster – ohne Diag
 nosen stellen zu müssen. Dabei geht es darum\, achtsam wahrzunehmen und a
 ngemessen zu reagieren\, ohne zu überfordern.\n\nEmpfehlungen für trauma
 sensibles und machtkritisches Handeln\nDas Seminar zeigt\, wie Erfahrungen
  von Rassismus\, Ausschluss oder struktureller Ungleichheit traumatische B
 elastungen verstärken können – und wie eine machtkritische Haltung daz
 u beiträgt\, junge Menschen wirklich zu stärken. Anhand konkreter Beispi
 ele lernen die Teilnehmenden\, wie sie Sicherheit\, Vertrauen und Verläss
 lichkeit im Kontakt schaffen können – auch in herausfordernden Situatio
 nen.\n\nSelbstfürsorge für Fachkräfte\nWer mit belasteten Menschen arbe
 itet\, braucht auch einen achtsamen Umgang mit den eigenen Grenzen. Zuglei
 ch bedeutet die Arbeit im Kontext von Flucht und Migration oft\, mit einem
  nicht funktionierenden oder widersprüchlichen System konfrontiert zu sei
 n – und mit politischen Rahmenbedingungen\, die von Rassismus und Ausgre
 nzung geprägt sind.\nDas Seminar lädt dazu ein\, auch diese strukturelle
 n Belastungen zu reflektieren und Wege zu finden\, wie Fachkräfte sich se
 lbst schützen\, solidarisch handeln und Kraftquellen im Berufsalltag bewa
 hren können.\n\nReferent*: Leo Teigler\, M.Sc. Psychologie\, M.A. Migrati
 onswissenschaften\, Systemischer Therapeut*\, Psychotherapeut* in Ausbildu
 ng (Systemische Therapie). Leo Teigler war 10 Jahre im Dachverband der psy
 chosozialen Zentren für Geflüchtete und Folterüberlebende (BAfF) tätig
 \, seit 2023 in der Fachstelle für queer refugees der Schwulenberatung Be
 rlin.\n\nTechnische Voraussetzungen:\n\nFür unsere Online-Veranstaltungen
  nutzen wir den Anbieter Zoom. Den Zugangslink erhalten Sie spätestens ei
 nen Tag vor der Veranstaltung. Bei technischen Problemen können wir nur i
 m Vorfeld der Veranstaltung unterstützen. Bitte führen Sie vorab einen T
 echniktest durch\, indem Sie hier klicken und den Anweisungen folgen.\n\nD
 etails finden Sie in unseren Teilnahmebedingungen.\n\nBuchungshinweis\n\nW
 ir haben ab und zu Probleme mit dem Buchungstool\, es werden in seltenen F
 ällen keine Bestätigungsmails versendet. Ihre Buchung war i.d.R. trotzde
 m erfolgreich. Bitte melden Sie sich nicht mehrfach für die Veranstaltung
  an\, wenn Sie zeitnah keine Bestätigungsmail erhalten\, wenden sich an i
 nfo@b-umf.de.\n\nWenn Sie mehrere Personen bei einer Buchung anmelden\, er
 hält nur die anmeldende Person eine Bestätigungsmail\, die anderen Perso
 nen sind trotzdem verbindlich angemeldet.
CATEGORIES:Fortbildung
LOCATION:Online Seminar\, Diese Veranstaltung findet ausschließlich online
  statt.\,  \, Deutschland
X-APPLE-STRUCTURED-LOCATION;VALUE=URI;X-ADDRESS=Diese Veranstaltung findet 
 ausschließlich online statt.\,  \, Deutschland;X-APPLE-RADIUS=100;X-TITL
 E=Online Seminar:geo:0,0
END:VEVENT
BEGIN:VTIMEZONE
TZID:Europe/Berlin
X-LIC-LOCATION:Europe/Berlin
BEGIN:DAYLIGHT
DTSTART:20260329T030000
TZOFFSETFROM:+0100
TZOFFSETTO:+0200
TZNAME:CEST
END:DAYLIGHT
END:VTIMEZONE
END:VCALENDAR